BEGIN:VCALENDAR
METHOD:PUBLISH
VERSION:2.0
PRODID:-//WoltLab GmbH//WoltLab Suite Calendar 5.4//EN
CALSCALE:GREGORIAN
X-WR-CALNAME;VALUE=TEXT:Ferien
BEGIN:VEVENT
TRANSP:TRANSPARENT
UID:event-217@marsbruch.net
URL:https://marsbruch.net/kalender/event/217-osterferien-2018-nordrhein-wes
 tfalen/
DTSTART;VALUE=DATE:20180326
DTSTAMP:20180326T000000Z
CREATED:20180326T000000Z
SUMMARY:Osterferien 2018 Nordrhein-Westfalen
DESCRIPTION:Alle Termine auf http://www.schulferien.org
DTEND;VALUE=DATE:20180408
END:VEVENT
BEGIN:VEVENT
TRANSP:TRANSPARENT
UID:event-218@marsbruch.net
URL:https://marsbruch.net/kalender/event/218-pfingstferien-2018-nordrhein-w
 estfalen/
DTSTART;VALUE=DATE:20180522
DTSTAMP:20180522T000000Z
CREATED:20180522T000000Z
SUMMARY:Pfingstferien 2018 Nordrhein-Westfalen
DESCRIPTION:Alle Termine auf http://www.schulferien.org
DTEND;VALUE=DATE:20180526
END:VEVENT
BEGIN:VEVENT
TRANSP:TRANSPARENT
UID:event-219@marsbruch.net
URL:https://marsbruch.net/kalender/event/219-sommerferien-2018-nordrhein-we
 stfalen/
DTSTART;VALUE=DATE:20180716
DTSTAMP:20180716T000000Z
CREATED:20180716T000000Z
SUMMARY:Sommerferien 2018 Nordrhein-Westfalen
DESCRIPTION:Alle Termine auf http://www.schulferien.org
DTEND;VALUE=DATE:20180829
END:VEVENT
BEGIN:VEVENT
TRANSP:TRANSPARENT
UID:event-220@marsbruch.net
URL:https://marsbruch.net/kalender/event/220-herbstferien-2018-nordrhein-we
 stfalen/
DTSTART;VALUE=DATE:20181015
DTSTAMP:20181015T000000Z
CREATED:20181015T000000Z
SUMMARY:Herbstferien 2018 Nordrhein-Westfalen
DESCRIPTION:Alle Termine auf http://www.schulferien.org
DTEND;VALUE=DATE:20181028
END:VEVENT
BEGIN:VEVENT
TRANSP:TRANSPARENT
UID:event-221@marsbruch.net
URL:https://marsbruch.net/kalender/event/221-weihnachtsferien-2018-nordrhei
 n-westfalen/
DTSTART;VALUE=DATE:20181221
DTSTAMP:20181221T000000Z
CREATED:20181221T000000Z
SUMMARY:Weihnachtsferien 2018 Nordrhein-Westfalen
DESCRIPTION:Alle Termine auf http://www.schulferien.org
DTEND;VALUE=DATE:20190105
END:VEVENT
BEGIN:VEVENT
TRANSP:TRANSPARENT
UID:event-222@marsbruch.net
URL:https://marsbruch.net/kalender/event/222-osterferien-2019-nordrhein-wes
 tfalen/
DTSTART;VALUE=DATE:20190415
DTSTAMP:20190415T000000Z
CREATED:20190415T000000Z
SUMMARY:Osterferien 2019 Nordrhein-Westfalen
DESCRIPTION:Alle Termine auf http://www.schulferien.org
DTEND;VALUE=DATE:20190428
END:VEVENT
BEGIN:VEVENT
TRANSP:TRANSPARENT
UID:event-223@marsbruch.net
URL:https://marsbruch.net/kalender/event/223-pfingstferien-2019-nordrhein-w
 estfalen/
DTSTART;VALUE=DATE:20190611
DTSTAMP:20190611T000000Z
CREATED:20190611T000000Z
SUMMARY:Pfingstferien 2019 Nordrhein-Westfalen
DESCRIPTION:Alle Termine auf http://www.schulferien.org
DTEND;VALUE=DATE:20190612
END:VEVENT
BEGIN:VEVENT
TRANSP:TRANSPARENT
UID:event-224@marsbruch.net
URL:https://marsbruch.net/kalender/event/224-sommerferien-2019-nordrhein-we
 stfalen/
DTSTART;VALUE=DATE:20190715
DTSTAMP:20190715T000000Z
CREATED:20190715T000000Z
SUMMARY:Sommerferien 2019 Nordrhein-Westfalen
DESCRIPTION:Sommerferien 2019 Nordrhein-Westfalen
DTEND;VALUE=DATE:20190828
END:VEVENT
BEGIN:VEVENT
TRANSP:TRANSPARENT
UID:event-225@marsbruch.net
URL:https://marsbruch.net/kalender/event/225-herbstferien-2019-nordrhein-we
 stfalen/
DTSTART;VALUE=DATE:20191014
DTSTAMP:20191014T000000Z
CREATED:20191014T000000Z
SUMMARY:Herbstferien 2019 Nordrhein-Westfalen
DESCRIPTION:Herbstferien 2019 Nordrhein-Westfalen
DTEND;VALUE=DATE:20191027
END:VEVENT
BEGIN:VEVENT
TRANSP:TRANSPARENT
UID:event-226@marsbruch.net
URL:https://marsbruch.net/kalender/event/226-weihnachtsferien-2019-nordrhei
 n-westfalen/
DTSTART;VALUE=DATE:20191223
DTSTAMP:20191223T000000Z
CREATED:20191223T000000Z
SUMMARY:Weihnachtsferien 2019 Nordrhein-Westfalen
DESCRIPTION:Weihnachtsferien 2019 Nordrhein-Westfalen
DTEND;VALUE=DATE:20200107
END:VEVENT
BEGIN:VEVENT
TRANSP:TRANSPARENT
UID:event-398@marsbruch.net
URL:https://marsbruch.net/kalender/event/398-osterferien-2020-nordrhein-wes
 tfalen/
DTSTART;VALUE=DATE:20200406
DTSTAMP:20200406T000000Z
CREATED:20200406T000000Z
SUMMARY:Osterferien 2020 Nordrhein-Westfalen
DESCRIPTION:Osterferien 2020 Nordrhein-Westfalen
DTEND;VALUE=DATE:20200419
END:VEVENT
BEGIN:VEVENT
TRANSP:TRANSPARENT
UID:event-399@marsbruch.net
URL:https://marsbruch.net/kalender/event/399-pfingstferien-2020-nordrhein-w
 estfalen/
DTSTART;VALUE=DATE:20200602
DTSTAMP:20200602T000000Z
CREATED:20200602T000000Z
SUMMARY:Pfingstferien 2020 Nordrhein-Westfalen
DESCRIPTION:Pfingstferien 2020 Nordrhein-Westfalen
DTEND;VALUE=DATE:20200603
END:VEVENT
BEGIN:VEVENT
TRANSP:TRANSPARENT
UID:event-400@marsbruch.net
URL:https://marsbruch.net/kalender/event/400-sommerferien-2020-nordrhein-we
 stfalen/
DTSTART;VALUE=DATE:20200629
DTSTAMP:20200629T000000Z
CREATED:20200629T000000Z
SUMMARY:Sommerferien 2020 Nordrhein-Westfalen
DESCRIPTION:Sommerferien 2020 Nordrhein-Westfalen
DTEND;VALUE=DATE:20200812
END:VEVENT
BEGIN:VEVENT
TRANSP:TRANSPARENT
UID:event-401@marsbruch.net
URL:https://marsbruch.net/kalender/event/401-herbstferien-2020-nordrhein-we
 stfalen/
DTSTART;VALUE=DATE:20201012
DTSTAMP:20201012T000000Z
CREATED:20201012T000000Z
SUMMARY:Herbstferien 2020 Nordrhein-Westfalen
DESCRIPTION:Herbstferien 2020 Nordrhein-Westfalen
DTEND;VALUE=DATE:20201025
END:VEVENT
BEGIN:VEVENT
TRANSP:TRANSPARENT
UID:event-652@marsbruch.net
URL:https://marsbruch.net/kalender/event/658-osterferien-2021-nrw/
DTSTART;VALUE=DATE:20210329
DTSTAMP:20210329T000000Z
CREATED:20210329T000000Z
SUMMARY:Osterferien 2021 NRW
DTEND;VALUE=DATE:20210411
END:VEVENT
BEGIN:VEVENT
TRANSP:TRANSPARENT
UID:event-657@marsbruch.net
URL:https://marsbruch.net/kalender/event/663-pfingstferien-2021-nrw/
DTSTART;VALUE=DATE:20210525
DTSTAMP:20210525T000000Z
CREATED:20210525T000000Z
SUMMARY:Pfingstferien 2021 NRW
DTEND;VALUE=DATE:20210526
END:VEVENT
BEGIN:VEVENT
TRANSP:TRANSPARENT
UID:event-770@marsbruch.net
URL:https://marsbruch.net/kalender/event/838-weihnachtsferien-2020-nordrhei
 n-westfalen/
DTSTART;VALUE=DATE:20201219
DTSTAMP:20201219T000000Z
CREATED:20201219T000000Z
SUMMARY:Weihnachtsferien 2020 Nordrhein-Westfalen
DESCRIPTION:Verlängerte Weihnachtsferien 2020/21 in NRW
DTEND;VALUE=DATE:20210111
END:VEVENT
BEGIN:VEVENT
TRANSP:TRANSPARENT
UID:event-858@marsbruch.net
URL:https://marsbruch.net/kalender/event/931-sommerferien-2021-nrw/
DTSTART;VALUE=DATE:20210705
DTSTAMP:20210705T000000Z
CREATED:20210705T000000Z
SUMMARY:Sommerferien 2021 NRW
DTEND;VALUE=DATE:20210818
END:VEVENT
BEGIN:VEVENT
TRANSP:TRANSPARENT
UID:event-888@marsbruch.net
URL:https://marsbruch.net/kalender/event/961-herbstferien-nrw/
DTSTART;VALUE=DATE:20211011
DTSTAMP:20211011T000000Z
CREATED:20211011T000000Z
SUMMARY:Herbstferien NRW
DTEND;VALUE=DATE:20211025
END:VEVENT
BEGIN:VEVENT
TRANSP:TRANSPARENT
UID:event-893@marsbruch.net
URL:https://marsbruch.net/kalender/event/966-weihnachtsferien-nrw/
DTSTART;VALUE=DATE:20211224
DTSTAMP:20211224T000000Z
CREATED:20211224T000000Z
SUMMARY:Weihnachtsferien NRW
DTEND;VALUE=DATE:20220110
END:VEVENT
BEGIN:VEVENT
TRANSP:TRANSPARENT
UID:event-901@marsbruch.net
URL:https://marsbruch.net/kalender/event/974-osterferien-nrw/
DTSTART;VALUE=DATE:20220411
DTSTAMP:20220411T000000Z
CREATED:20220411T000000Z
SUMMARY:Osterferien NRW
DTEND;VALUE=DATE:20220425
END:VEVENT
BEGIN:VEVENT
TRANSP:TRANSPARENT
UID:event-917@marsbruch.net
URL:https://marsbruch.net/kalender/event/990-sommerferien-nrw/
DTSTART;VALUE=DATE:20220627
DTSTAMP:20220627T000000Z
CREATED:20220627T000000Z
SUMMARY:Sommerferien NRW
DTEND;VALUE=DATE:20220810
END:VEVENT
BEGIN:VEVENT
TRANSP:TRANSPARENT
UID:event-918@marsbruch.net
URL:https://marsbruch.net/kalender/event/991-herbstferien-nrw/
DTSTART;VALUE=DATE:20221004
DTSTAMP:20221004T000000Z
CREATED:20221004T000000Z
SUMMARY:Herbstferien NRW
DTEND;VALUE=DATE:20221017
END:VEVENT
BEGIN:VEVENT
TRANSP:TRANSPARENT
UID:event-921@marsbruch.net
URL:https://marsbruch.net/kalender/event/994-weihnachtsferien-nrw/
DTSTART;VALUE=DATE:20221223
DTSTAMP:20221223T000000Z
CREATED:20221223T000000Z
SUMMARY:Weihnachtsferien NRW
DTEND;VALUE=DATE:20230109
END:VEVENT
BEGIN:VEVENT
TRANSP:TRANSPARENT
UID:event-922@marsbruch.net
URL:https://marsbruch.net/kalender/event/995-osterferien-nrw/
DTSTART;VALUE=DATE:20230403
DTSTAMP:20230403T000000Z
CREATED:20230403T000000Z
SUMMARY:Osterferien NRW
DTEND;VALUE=DATE:20230417
END:VEVENT
BEGIN:VEVENT
TRANSP:TRANSPARENT
UID:event-1136@marsbruch.net
URL:https://marsbruch.net/kalender/event/1216-pfingstferien/
DTSTART;VALUE=DATE:20230530
DTSTAMP:20230530T000000Z
CREATED:20230530T000000Z
SUMMARY:Pfingstferien
DTEND;VALUE=DATE:20230531
END:VEVENT
BEGIN:VEVENT
TRANSP:TRANSPARENT
UID:event-1146@marsbruch.net
URL:https://marsbruch.net/kalender/event/1226-sommerferien-nrw/
DTSTART;VALUE=DATE:20230622
DTSTAMP:20230622T000000Z
CREATED:20230622T000000Z
SUMMARY:Sommerferien NRW
DTEND;VALUE=DATE:20230805
END:VEVENT
BEGIN:VEVENT
TRANSP:TRANSPARENT
UID:event-1147@marsbruch.net
URL:https://marsbruch.net/kalender/event/1227-herbstferien-nrw/
DTSTART;VALUE=DATE:20231002
DTSTAMP:20231002T000000Z
CREATED:20231002T000000Z
SUMMARY:Herbstferien NRW
DTEND;VALUE=DATE:20231015
END:VEVENT
BEGIN:VEVENT
TRANSP:TRANSPARENT
UID:event-1148@marsbruch.net
URL:https://marsbruch.net/kalender/event/1228-weihnachtsferien-nrw/
DTSTART;VALUE=DATE:20231221
DTSTAMP:20231221T000000Z
CREATED:20231221T000000Z
SUMMARY:Weihnachtsferien NRW
DTEND;VALUE=DATE:20240106
END:VEVENT
BEGIN:VEVENT
TRANSP:TRANSPARENT
UID:event-1149@marsbruch.net
URL:https://marsbruch.net/kalender/event/1229-osterferien-nrw/
DTSTART;VALUE=DATE:20240325
DTSTAMP:20240325T000000Z
CREATED:20240325T000000Z
SUMMARY:Osterferien NRW
DTEND;VALUE=DATE:20240407
END:VEVENT
BEGIN:VEVENT
TRANSP:OPAQUE
UID:event-1191@marsbruch.net
URL:https://marsbruch.net/kalender/event/1271-kurzer-schultag/
DTSTART:20230503T061000Z
DTSTAMP:20230503T061000Z
CREATED:20230503T061000Z
SUMMARY:Kurzer Schultag
DESCRIPTION:(wegen Personalversammlung)
DTEND:20230503T092500Z
END:VEVENT
BEGIN:VEVENT
TRANSP:TRANSPARENT
UID:event-1397@marsbruch.net
URL:https://marsbruch.net/kalender/event/1477-pfingstferien/
DTSTART;VALUE=DATE:20240521
DTSTAMP:20240521T000000Z
CREATED:20240521T000000Z
SUMMARY:Pfingstferien
DTEND;VALUE=DATE:20240522
END:VEVENT
BEGIN:VEVENT
TRANSP:TRANSPARENT
UID:event-1588@marsbruch.net
URL:https://marsbruch.net/kalender/event/2668-sommerferien-nrw/
DTSTART;VALUE=DATE:20240708
DTSTAMP:20240708T000000Z
CREATED:20240708T000000Z
SUMMARY:Sommerferien NRW
DESCRIPTION:Sommerferien
DTEND;VALUE=DATE:20240821
END:VEVENT
BEGIN:VEVENT
TRANSP:TRANSPARENT
UID:event-1800@marsbruch.net
URL:https://marsbruch.net/kalender/event/3880-herbstferien-nrw/
DTSTART;VALUE=DATE:20241014
DTSTAMP:20241014T000000Z
CREATED:20241014T000000Z
SUMMARY:Herbstferien NRW
DTEND;VALUE=DATE:20241027
END:VEVENT
BEGIN:VEVENT
TRANSP:TRANSPARENT
UID:event-1801@marsbruch.net
URL:https://marsbruch.net/kalender/event/3881-weihnachtsferien-nrw/
DTSTART;VALUE=DATE:20241223
DTSTAMP:20241223T000000Z
CREATED:20241223T000000Z
SUMMARY:Weihnachtsferien NRW
DTEND;VALUE=DATE:20250107
END:VEVENT
BEGIN:VEVENT
TRANSP:TRANSPARENT
UID:event-1802@marsbruch.net
URL:https://marsbruch.net/kalender/event/3882-osterferien-nrw/
DTSTART;VALUE=DATE:20250414
DTSTAMP:20250414T000000Z
CREATED:20250414T000000Z
SUMMARY:Osterferien NRW
DTEND;VALUE=DATE:20250427
END:VEVENT
BEGIN:VEVENT
TRANSP:TRANSPARENT
UID:event-1803@marsbruch.net
URL:https://marsbruch.net/kalender/event/3883-pfingstferien-nrw/
DTSTART;VALUE=DATE:20250610
DTSTAMP:20250610T000000Z
CREATED:20250610T000000Z
SUMMARY:Pfingstferien NRW
DTEND;VALUE=DATE:20250611
END:VEVENT
BEGIN:VEVENT
TRANSP:TRANSPARENT
UID:event-1804@marsbruch.net
URL:https://marsbruch.net/kalender/event/3884-sommerferien-nrw/
DTSTART;VALUE=DATE:20250714
DTSTAMP:20250714T000000Z
CREATED:20250714T000000Z
SUMMARY:Sommerferien NRW
DTEND;VALUE=DATE:20250827
END:VEVENT
BEGIN:VEVENT
TRANSP:TRANSPARENT
UID:event-1805@marsbruch.net
URL:https://marsbruch.net/kalender/event/3885-herbstferien-nrw/
DTSTART;VALUE=DATE:20251013
DTSTAMP:20251013T000000Z
CREATED:20251013T000000Z
SUMMARY:Herbstferien NRW
DTEND;VALUE=DATE:20251026
END:VEVENT
BEGIN:VEVENT
TRANSP:TRANSPARENT
UID:event-1806@marsbruch.net
URL:https://marsbruch.net/kalender/event/3886-weihnachtsferien-nrw/
DTSTART;VALUE=DATE:20251222
DTSTAMP:20251222T000000Z
CREATED:20251222T000000Z
SUMMARY:Weihnachtsferien NRW
DTEND;VALUE=DATE:20260107
END:VEVENT
BEGIN:VEVENT
TRANSP:TRANSPARENT
UID:event-1807@marsbruch.net
URL:https://marsbruch.net/kalender/event/3887-osterferien-nrw/
DTSTART;VALUE=DATE:20260330
DTSTAMP:20260330T000000Z
CREATED:20260330T000000Z
SUMMARY:Osterferien NRW
DTEND;VALUE=DATE:20260412
END:VEVENT
BEGIN:VEVENT
TRANSP:TRANSPARENT
UID:event-1808@marsbruch.net
URL:https://marsbruch.net/kalender/event/3888-pfingstferien-nrw/
DTSTART;VALUE=DATE:20260526
DTSTAMP:20260526T000000Z
CREATED:20260526T000000Z
SUMMARY:Pfingstferien NRW
DTEND;VALUE=DATE:20260527
END:VEVENT
END:VCALENDAR
