BEGIN:VCALENDAR
METHOD:PUBLISH
VERSION:2.0
PRODID:-//WoltLab GmbH//WoltLab Suite Calendar 5.4//EN
CALSCALE:GREGORIAN
X-WR-CALNAME;VALUE=TEXT:Schulsozialarbeit
BEGIN:VEVENT
TRANSP:OPAQUE
UID:event-674@marsbruch.net
URL:https://marsbruch.net/kalender/event/680-schnupperkurs-wing-tsun/
DTSTART:20200901T133000Z
DTSTAMP:20200901T133000Z
CREATED:20200901T133000Z
SUMMARY:Schnupperkurs Wing Tsun
DESCRIPTION:Der Schnupperkurs ist an alle gerichtet\, die an fünf Terminen 
 die chinesische Kampfkunst Wing Tsun unter dem besonderen Aspekt der Selbst
 verteidigung kennenlernen möchten.\n\nFür die Teilnahme sind keinerlei Vork
 enntnisse notwendig. Es bedarf auch keiner besonderen körperlichen Konstitu
 tion oder Fitness.\n\nIm Kurs werden Bewegungen und Prinzipien vorgestellt\
 , die es ermöglichen\, das Risiko für eigene Verletzungen in körperlichen A
 useinandersetzungen zu minimieren.\n\n\nWing Tsun eröffnet Möglichkeiten\, 
 sich auf eine andere Weise achtsam mit dem eigenen Körper auseinanderzusetz
 en und einen neuen Aspekt der Selbstwirksamkeit zu erleben.\n\nDer Kurs wir
 d in der Turnhalle stattfinden. Bitte kommt bereits in bequemer Bekleidung 
 in die Halle. Hände waschen und desinfizieren ist vor Ort möglich. Ein Mund
 -Nasen-Schutz sollte vorhanden sein.
LOCATION:Turnhalle
DTEND:20200901T150000Z
RRULE:FREQ=WEEKLY;INTERVAL=1;BYDAY=TU;WKST=MO;UNTIL=20200929
END:VEVENT
BEGIN:VEVENT
TRANSP:OPAQUE
UID:event-1508@marsbruch.net
URL:https://marsbruch.net/kalender/event/1588-wing-chun-f%C3%BCr-lehrkr%C3%
 A4fte/
DTSTART:20231019T133000Z
DTSTAMP:20231019T133000Z
CREATED:20231019T133000Z
SUMMARY:Wing Chun für Lehrkräfte
DESCRIPTION:Wing Chun als Achtsamkeitsübung\, gesundheitsfördernde körperli
 che und mentale Arbeit\, Kampfkunst und Selbstverteidigung.
LOCATION:Sternenhalle
DTEND:20231019T150000Z
END:VEVENT
BEGIN:VEVENT
TRANSP:OPAQUE
UID:event-1509@marsbruch.net
URL:https://marsbruch.net/kalender/event/1589-wing-chun-f%C3%BCr-lehrkr%C3%
 A4fte/
DTSTART:20231026T133000Z
DTSTAMP:20231026T133000Z
CREATED:20231026T133000Z
SUMMARY:Wing Chun für Lehrkräfte
DESCRIPTION:Wing Chun als Achtsamkeitsübung\, gesundheitsfördernde körperli
 che und mentale Arbeit\, Kampfkunst und Selbstverteidigung.
LOCATION:Sternenhalle
DTEND:20231026T150000Z
END:VEVENT
BEGIN:VEVENT
TRANSP:OPAQUE
UID:event-1510@marsbruch.net
URL:https://marsbruch.net/kalender/event/1590-wing-chun-f%C3%BCr-lehrkr%C3%
 A4fte/
DTSTART:20231106T143000Z
DTSTAMP:20231106T143000Z
CREATED:20231106T143000Z
SUMMARY:Wing Chun für Lehrkräfte
DESCRIPTION:Wing Chun als Achtsamkeitsübung\, gesundheitsfördernde körperli
 che und mentale Arbeit\, Kampfkunst und Selbstverteidigung.
LOCATION:Sternenhalle
DTEND:20231106T160000Z
END:VEVENT
BEGIN:VEVENT
TRANSP:OPAQUE
UID:event-1511@marsbruch.net
URL:https://marsbruch.net/kalender/event/1591-wing-chun-f%C3%BCr-lehrkr%C3%
 A4fte/
DTSTART:20231113T143000Z
DTSTAMP:20231113T143000Z
CREATED:20231113T143000Z
SUMMARY:Wing Chun für Lehrkräfte
DESCRIPTION:Wing Chun als Achtsamkeitsübung\, gesundheitsfördernde körperli
 che und mentale Arbeit\, Kampfkunst und Selbstverteidigung.
LOCATION:Sternenhalle
DTEND:20231113T160000Z
END:VEVENT
BEGIN:VEVENT
TRANSP:OPAQUE
UID:event-1512@marsbruch.net
URL:https://marsbruch.net/kalender/event/1592-wing-chun-f%C3%BCr-lehrkr%C3%
 A4fte/
DTSTART:20231121T143000Z
DTSTAMP:20231121T143000Z
CREATED:20231121T143000Z
SUMMARY:Wing Chun für Lehrkräfte
DESCRIPTION:Wing Chun als Achtsamkeitsübung\, gesundheitsfördernde körperli
 che und mentale Arbeit\, Kampfkunst und Selbstverteidigung.
LOCATION:Sternenhalle
DTEND:20231121T160000Z
END:VEVENT
BEGIN:VEVENT
TRANSP:OPAQUE
UID:event-1513@marsbruch.net
URL:https://marsbruch.net/kalender/event/1593-wing-chun-f%C3%BCr-lehrkr%C3%
 A4fte/
DTSTART:20231128T143000Z
DTSTAMP:20231128T143000Z
CREATED:20231128T143000Z
SUMMARY:Wing Chun für Lehrkräfte
DESCRIPTION:Wing Chun als Achtsamkeitsübung\, gesundheitsfördernde körperli
 che und mentale Arbeit\, Kampfkunst und Selbstverteidigung.
LOCATION:Sternenhalle
DTEND:20231128T160000Z
END:VEVENT
BEGIN:VEVENT
TRANSP:OPAQUE
UID:event-1514@marsbruch.net
URL:https://marsbruch.net/kalender/event/1594-wing-chun-f%C3%BCr-lehrkr%C3%
 A4fte/
DTSTART:20231206T143000Z
DTSTAMP:20231206T143000Z
CREATED:20231206T143000Z
SUMMARY:Wing Chun für Lehrkräfte
DESCRIPTION:Wing Chun als Achtsamkeitsübung\, gesundheitsfördernde körperli
 che und mentale Arbeit\, Kampfkunst und Selbstverteidigung.
LOCATION:Sternenhalle
DTEND:20231206T160000Z
END:VEVENT
BEGIN:VEVENT
TRANSP:OPAQUE
UID:event-1515@marsbruch.net
URL:https://marsbruch.net/kalender/event/1595-wing-chun-f%C3%BCr-lehrkr%C3%
 A4fte/
DTSTART:20231213T143000Z
DTSTAMP:20231213T143000Z
CREATED:20231213T143000Z
SUMMARY:Wing Chun für Lehrkräfte
DESCRIPTION:Wing Chun als Achtsamkeitsübung\, gesundheitsfördernde körperli
 che und mentale Arbeit\, Kampfkunst und Selbstverteidigung.
LOCATION:Sternenhalle
DTEND:20231213T160000Z
END:VEVENT
BEGIN:VEVENT
TRANSP:OPAQUE
UID:event-1741@marsbruch.net
URL:https://marsbruch.net/kalender/event/3821-jucops-besuch-der-jugendkonta
 ktbeauftragten-der-polizei/
DTSTART:20250130T080000Z
DTSTAMP:20250130T080000Z
CREATED:20250130T080000Z
SUMMARY:JuCops -  Besuch der Jugendkontaktbeauftragten der Polizei
DESCRIPTION:Im Rahmen einer Präventionsveranstaltung werden grundsätzlich T
 hemen wie Medien (WhatsApp und Co.\, Gefahren\, Datenverarbeitung)\, Jugend
 typische Straftaten (Verstoß Kunsturheberrechtsgesetz\, Körperverletzung\, 
 Beleidigung\, Diebstahl\, Sachbeschädigung) und das Strafverfahren erläuter
 t. Zudem wir am Ende der Veranstaltung eine offene Fragerunde angeboten.
LOCATION:BT 3 / 0.35 Lehrer*innenzimmer
DTEND:20250130T100000Z
END:VEVENT
BEGIN:VEVENT
TRANSP:OPAQUE
UID:event-1859@marsbruch.net
URL:https://marsbruch.net/kalender/event/3940-informationsabend-betreuungsr
 echt/
DTSTART:20251106T163000Z
DTSTAMP:20251106T163000Z
CREATED:20251106T163000Z
SUMMARY:Informationsabend Betreuungsrecht
LOCATION:BT 3 / 0.35 Lehrer*innenzimmer
DTEND:20251106T180000Z
END:VEVENT
BEGIN:VEVENT
TRANSP:OPAQUE
UID:event-1942@marsbruch.net
URL:https://marsbruch.net/kalender/event/4023-interreligi%C3%B6se-feier/
DTSTART:20250925T083000Z
DTSTAMP:20250925T083000Z
CREATED:20250925T083000Z
SUMMARY:Interreligiöse Feier
DESCRIPTION:Interreligiöse Feier der Schule am Marsbruch und der Martin-Bar
 tels-Schule
LOCATION:Foyer
DTEND:20250925T091500Z
END:VEVENT
BEGIN:VEVENT
TRANSP:OPAQUE
UID:event-1970@marsbruch.net
URL:https://marsbruch.net/kalender/event/4051-info-st%C3%A4nde-zum-elternsp
 rechtag/
DTSTART:20250401T110000Z
DTSTAMP:20250401T110000Z
CREATED:20250401T110000Z
SUMMARY:Info-Stände zum Elternsprechtag
DESCRIPTION:Drei Akteurinnen stellen ihre Angebote vor:\n\nFrau Nassowitz (
 fällt leider krankheitsbedingt aus!)\n\nBetreuungsverein Lebenshilfe Dortmu
 nd e.V.\n\n\n\nFrau Osterkemper\n\nKoordinierende Autismustherapeutin\n\nKi
 nderlotse GmbH\n\n\n\nFrau Acil\n\nNetzwerk-Koordinatorin\n\nDeutsche Kinde
 rhospiz Dienste e.V.
LOCATION:Foyer
DTEND:20250401T160000Z
END:VEVENT
BEGIN:VEVENT
TRANSP:OPAQUE
UID:event-2011@marsbruch.net
URL:https://marsbruch.net/kalender/event/4092-ak-kinder-und-jugendschutz/
DTSTART:20250709T133000Z
DTSTAMP:20250709T133000Z
CREATED:20250709T133000Z
SUMMARY:AK Kinder- und Jugendschutz
DTEND:20250709T150000Z
END:VEVENT
BEGIN:VEVENT
TRANSP:OPAQUE
UID:event-2012@marsbruch.net
URL:https://marsbruch.net/kalender/event/4093-ak-kinder-und-jugendschutz/
DTSTART:20250821T070000Z
DTSTAMP:20250821T070000Z
CREATED:20250821T070000Z
SUMMARY:AK Kinder- und Jugendschutz
DTEND:20250821T083000Z
END:VEVENT
BEGIN:VEVENT
TRANSP:OPAQUE
UID:event-2070@marsbruch.net
URL:https://marsbruch.net/kalender/event/4152-jucops-besuch-der-jugendkonta
 ktbeauftragten-der-polizei/
DTSTART:20260325T080000Z
DTSTAMP:20260325T080000Z
CREATED:20260325T080000Z
SUMMARY:JuCops -  Besuch der Jugendkontaktbeauftragten der Polizei
DESCRIPTION:Im Rahmen einer Präventionsveranstaltung werden grundsätzlich T
 hemen wie Medien (WhatsApp und Co.\, Gefahren\, Datenverarbeitung)\, Jugend
 typische Straftaten (Verstoß Kunsturheberrechtsgesetz\, Körperverletzung\, 
 Beleidigung\, Diebstahl\, Sachbeschädigung) und das Strafverfahren erläuter
 t. Zudem wir am Ende der Veranstaltung eine offene Fragerunde angeboten.
LOCATION:BT 3 / 0.35 Lehrer*innenzimmer
DTEND:20260325T110000Z
END:VEVENT
BEGIN:VEVENT
TRANSP:OPAQUE
UID:event-2071@marsbruch.net
URL:https://marsbruch.net/kalender/event/4153-ak-kinder-und-jugendschutz/
DTSTART:20250905T104500Z
DTSTAMP:20250905T104500Z
CREATED:20250905T104500Z
SUMMARY:AK Kinder- und Jugendschutz
LOCATION:BT 3 / 0.37 Schulsozialarbeit
DTEND:20250905T121500Z
END:VEVENT
BEGIN:VEVENT
TRANSP:OPAQUE
UID:event-2086@marsbruch.net
URL:https://marsbruch.net/kalender/event/4174-interreligi%C3%B6se-feier/
DTSTART:20260326T093500Z
DTSTAMP:20260326T093500Z
CREATED:20260326T093500Z
SUMMARY:Interreligiöse Feier
DESCRIPTION:Interreligiöse Feier der Schule am Marsbruch und der Martin-Bar
 tels-Schule.\n\nDiesmal mit angepasstem Beginn um 10:35 Uhr.
LOCATION:Foyer
DTEND:20260326T101500Z
END:VEVENT
BEGIN:VEVENT
TRANSP:OPAQUE
UID:event-2166@marsbruch.net
URL:https://marsbruch.net/kalender/event/4254-eltern-info-was-kommt-nach-de
 r-schule/
DTSTART:20260421T153000Z
DTSTAMP:20260421T153000Z
CREATED:20260421T153000Z
SUMMARY:Eltern-Info: Was kommt nach der Schule...?
DESCRIPTION:Info-Abend: Was kommt nach der Schule....?\n\nVorstellung der A
 gentur für Arbeit und\n\neiner Vertreterin einer Werkstatt für behinderte M
 enschen aus Dortmund.\n\n\n\nEingeladen sind Eltern und Erziehungsberechtig
 e der Klassen AST-a bis AST-f.\n\nDie Teilnahme ist freiwillig.\n\nWir biet
 en diesen Abend in der Regel jedes Jahr einmal an.
LOCATION:BT 3 / 0.35 Lehrer:innenzimmer
DTEND:20260421T173000Z
END:VEVENT
BEGIN:VEVENT
TRANSP:OPAQUE
UID:event-2229@marsbruch.net
URL:https://marsbruch.net/kalender/event/4317-interreligi%C3%B6se-feier/
DTSTART:20260917T083500Z
DTSTAMP:20260917T083500Z
CREATED:20260917T083500Z
SUMMARY:Interreligiöse Feier
DESCRIPTION:Interreligiöse Feier der Schule am Marsbruch und der Martin-Bar
 tels-Schule
DTEND:20260917T091500Z
END:VEVENT
END:VCALENDAR
