BEGIN:VCALENDAR
METHOD:PUBLISH
VERSION:2.0
PRODID:-//WoltLab GmbH//WoltLab Suite Calendar 5.4//EN
CALSCALE:GREGORIAN
X-WR-CALNAME;VALUE=TEXT:Casemanager  Treffen Accent Geräte
BEGIN:VEVENT
TRANSP:OPAQUE
UID:event-1057@marsbruch.net
URL:https://marsbruch.net/kalender/event/1137-casemanager-treffen-accent-ge
 r%C3%A4te/
DTSTART:20220519T133000Z
DTSTAMP:20220519T133000Z
CREATED:20220519T133000Z
SUMMARY:Casemanager  Treffen Accent Geräte
DESCRIPTION:Austausch der Casemanager/innen der Accentschüler/innen\n\n* St
 andards der Schule\n\n* Förderung der Schüler/innen\n\n* Tipps und Tricks
DTEND:20220519T143000Z
END:VEVENT
END:VCALENDAR
