BEGIN:VCALENDAR
METHOD:PUBLISH
VERSION:2.0
PRODID:-//WoltLab GmbH//WoltLab Suite Calendar 5.4//EN
CALSCALE:GREGORIAN
X-WR-CALNAME;VALUE=TEXT:Wartungsarbeiten LOGINEO NRW
BEGIN:VEVENT
TRANSP:OPAQUE
UID:event-1073@marsbruch.net
URL:https://marsbruch.net/kalender/event/1153-wartungsarbeiten-logineo-nrw/
DTSTART:20220426T150000Z
DTSTAMP:20220426T150000Z
CREATED:20220426T150000Z
SUMMARY:Wartungsarbeiten LOGINEO NRW
DTEND:20220426T153000Z
END:VEVENT
END:VCALENDAR
