BEGIN:VCALENDAR
METHOD:PUBLISH
VERSION:2.0
PRODID:-//WoltLab GmbH//WoltLab Suite Calendar 5.4//EN
CALSCALE:GREGORIAN
X-WR-CALNAME;VALUE=TEXT:Einschulungsfeier
BEGIN:VEVENT
TRANSP:OPAQUE
UID:event-1099@marsbruch.net
URL:https://marsbruch.net/kalender/event/1179-einschulungsfeier/
DTSTART:20220812T080000Z
DTSTAMP:20220812T080000Z
CREATED:20220812T080000Z
SUMMARY:Einschulungsfeier
LOCATION:Turnhalle
DTEND:20220812T090000Z
END:VEVENT
END:VCALENDAR
