BEGIN:VCALENDAR
METHOD:PUBLISH
VERSION:2.0
PRODID:-//WoltLab GmbH//WoltLab Suite Calendar 5.4//EN
CALSCALE:GREGORIAN
X-WR-CALNAME;VALUE=TEXT:1. Schulkonferenz
BEGIN:VEVENT
TRANSP:OPAQUE
UID:event-1106@marsbruch.net
URL:https://marsbruch.net/kalender/event/1186-1-schulkonferenz/
DTSTART:20221107T180000Z
DTSTAMP:20221107T180000Z
CREATED:20221107T180000Z
SUMMARY:1. Schulkonferenz
DTEND:20221107T200000Z
END:VEVENT
END:VCALENDAR
