BEGIN:VCALENDAR
METHOD:PUBLISH
VERSION:2.0
PRODID:-//WoltLab GmbH//WoltLab Suite Calendar 5.4//EN
CALSCALE:GREGORIAN
X-WR-CALNAME;VALUE=TEXT:2. Schulkonferenz
BEGIN:VEVENT
TRANSP:OPAQUE
UID:event-1127@marsbruch.net
URL:https://marsbruch.net/kalender/event/1207-2-schulkonferenz/
DTSTART:20230508T170000Z
DTSTAMP:20230508T170000Z
CREATED:20230508T170000Z
SUMMARY:2. Schulkonferenz
DTEND:20230508T190000Z
END:VEVENT
END:VCALENDAR
