BEGIN:VCALENDAR
METHOD:PUBLISH
VERSION:2.0
PRODID:-//WoltLab GmbH//WoltLab Suite Calendar 5.4//EN
CALSCALE:GREGORIAN
X-WR-CALNAME;VALUE=TEXT:Herbstsingen
BEGIN:VEVENT
TRANSP:OPAQUE
UID:event-1180@marsbruch.net
URL:https://marsbruch.net/kalender/event/1260-herbstsingen/
DTSTART:20220929T081500Z
DTSTAMP:20220929T081500Z
CREATED:20220929T081500Z
SUMMARY:Herbstsingen
DESCRIPTION:Herbstsingen der UST.\n\nBei gutem Wetter draußen vor der Verwa
 ltung\, bei schlechtem Wetter in der Sternenhalle.
LOCATION:Draußen vor der Verwaltung/ Sternenhalle
DTEND:20220929T084500Z
END:VEVENT
END:VCALENDAR
