BEGIN:VCALENDAR
METHOD:PUBLISH
VERSION:2.0
PRODID:-//WoltLab GmbH//WoltLab Suite Calendar 5.4//EN
CALSCALE:GREGORIAN
X-WR-CALNAME;VALUE=TEXT:Landessportfest Mini- Rollibasketball in Hemer
BEGIN:VEVENT
TRANSP:TRANSPARENT
UID:event-1187@marsbruch.net
URL:https://marsbruch.net/kalender/event/1267-landessportfest-mini-rollibas
 ketball-in-hemer/
DTSTART;VALUE=DATE:20230323
DTSTAMP:20230323T000000Z
CREATED:20230323T000000Z
SUMMARY:Landessportfest Mini- Rollibasketball in Hemer
DESCRIPTION:Landessportfest Mini- Rollibasketball in Hemer
LOCATION:Hemer
DTEND;VALUE=DATE:20230324
END:VEVENT
END:VCALENDAR
