BEGIN:VCALENDAR
METHOD:PUBLISH
VERSION:2.0
PRODID:-//WoltLab GmbH//WoltLab Suite Calendar 5.4//EN
CALSCALE:GREGORIAN
X-WR-CALNAME;VALUE=TEXT:Abgabefrist Anträge Förderverein
BEGIN:VEVENT
TRANSP:OPAQUE
UID:event-1224@marsbruch.net
URL:https://marsbruch.net/kalender/event/1304-abgabefrist-antr%C3%A4ge-f%C3
 %B6rderverein/
DTSTART:20221118T080000Z
DTSTAMP:20221118T080000Z
CREATED:20221118T080000Z
SUMMARY:Abgabefrist Anträge Förderverein
DTEND:20221118T090000Z
END:VEVENT
END:VCALENDAR
