BEGIN:VCALENDAR
METHOD:PUBLISH
VERSION:2.0
PRODID:-//WoltLab GmbH//WoltLab Suite Calendar 5.4//EN
CALSCALE:GREGORIAN
X-WR-CALNAME;VALUE=TEXT:Wartungsarbeiten LOGINEO NRW
BEGIN:VEVENT
TRANSP:OPAQUE
UID:event-1256@marsbruch.net
URL:https://marsbruch.net/kalender/event/1336-wartungsarbeiten-logineo-nrw/
DTSTART:20221201T160000Z
DTSTAMP:20221201T160000Z
CREATED:20221201T160000Z
SUMMARY:Wartungsarbeiten LOGINEO NRW
DTEND:20221202T060000Z
END:VEVENT
END:VCALENDAR
