BEGIN:VCALENDAR
METHOD:PUBLISH
VERSION:2.0
PRODID:-//WoltLab GmbH//WoltLab Suite Calendar 5.4//EN
CALSCALE:GREGORIAN
X-WR-CALNAME;VALUE=TEXT:Informationsabend für Eltern zum Thema Betreuung  m
 it Herrn Rüberg
BEGIN:VEVENT
TRANSP:OPAQUE
UID:event-1265@marsbruch.net
URL:https://marsbruch.net/kalender/event/1345-informationsabend-f%C3%BCr-el
 tern-zum-thema-betreuung-mit-herrn-r%C3%BCberg/
DTSTART:20230213T173000Z
DTSTAMP:20230213T173000Z
CREATED:20230213T173000Z
SUMMARY:Informationsabend für Eltern zum Thema Betreuung  mit Herrn Rüberg
DTEND:20230213T193000Z
END:VEVENT
END:VCALENDAR
