BEGIN:VCALENDAR
METHOD:PUBLISH
VERSION:2.0
PRODID:-//WoltLab GmbH//WoltLab Suite Calendar 5.4//EN
CALSCALE:GREGORIAN
X-WR-CALNAME;VALUE=TEXT:Wartung der IT
BEGIN:VEVENT
TRANSP:OPAQUE
UID:event-1271@marsbruch.net
URL:https://marsbruch.net/kalender/event/1351-wartung-der-it/
DTSTART:20230201T160000Z
DTSTAMP:20230201T160000Z
CREATED:20230201T160000Z
SUMMARY:Wartung der IT
DTEND:20230201T170000Z
END:VEVENT
END:VCALENDAR
