BEGIN:VCALENDAR
METHOD:PUBLISH
VERSION:2.0
PRODID:-//WoltLab GmbH//WoltLab Suite Calendar 5.4//EN
CALSCALE:GREGORIAN
X-WR-CALNAME;VALUE=TEXT:Wartungsarbeiten LOGINEO NRW
BEGIN:VEVENT
TRANSP:OPAQUE
UID:event-1315@marsbruch.net
URL:https://marsbruch.net/kalender/event/1395-wartungsarbeiten-logineo-nrw/
DTSTART:20230305T060000Z
DTSTAMP:20230305T060000Z
CREATED:20230305T060000Z
SUMMARY:Wartungsarbeiten LOGINEO NRW
DTEND:20230305T123000Z
END:VEVENT
END:VCALENDAR
