BEGIN:VCALENDAR
METHOD:PUBLISH
VERSION:2.0
PRODID:-//WoltLab GmbH//WoltLab Suite Calendar 5.4//EN
CALSCALE:GREGORIAN
X-WR-CALNAME;VALUE=TEXT:FK Sport
BEGIN:VEVENT
TRANSP:OPAQUE
UID:event-1343@marsbruch.net
URL:https://marsbruch.net/kalender/event/1423-fk-sport/
DTSTART:20230421T104500Z
DTSTAMP:20230421T104500Z
CREATED:20230421T104500Z
SUMMARY:FK Sport
DESCRIPTION:Evaluation des Sportangebots\n\nPlanung des neuen Schuljahrs
LOCATION:Schubert Klasse\, 4b
DTEND:20230421T124500Z
END:VEVENT
END:VCALENDAR
