BEGIN:VCALENDAR
METHOD:PUBLISH
VERSION:2.0
PRODID:-//WoltLab GmbH//WoltLab Suite Calendar 5.4//EN
CALSCALE:GREGORIAN
X-WR-CALNAME;VALUE=TEXT:Einschulungsfeier
BEGIN:VEVENT
TRANSP:OPAQUE
UID:event-1348@marsbruch.net
URL:https://marsbruch.net/kalender/event/1428-einschulungsfeier/
DTSTART:20230809T080000Z
DTSTAMP:20230809T080000Z
CREATED:20230809T080000Z
SUMMARY:Einschulungsfeier
DESCRIPTION:Einschulungsfeier
DTEND:20230809T100000Z
END:VEVENT
END:VCALENDAR
