BEGIN:VCALENDAR
METHOD:PUBLISH
VERSION:2.0
PRODID:-//WoltLab GmbH//WoltLab Suite Calendar 5.4//EN
CALSCALE:GREGORIAN
X-WR-CALNAME;VALUE=TEXT:Schulsportfest
BEGIN:VEVENT
TRANSP:TRANSPARENT
UID:event-1354@marsbruch.net
URL:https://marsbruch.net/kalender/event/1434-schulsportfest/
DTSTART;VALUE=DATE:20230907
DTSTAMP:20230907T000000Z
CREATED:20230907T000000Z
SUMMARY:Schulsportfest
DESCRIPTION:Schulsportfest
DTEND;VALUE=DATE:20230908
END:VEVENT
END:VCALENDAR
