BEGIN:VCALENDAR
METHOD:PUBLISH
VERSION:2.0
PRODID:-//WoltLab GmbH//WoltLab Suite Calendar 5.4//EN
CALSCALE:GREGORIAN
X-WR-CALNAME;VALUE=TEXT:Adventsbasar
BEGIN:VEVENT
TRANSP:OPAQUE
UID:event-1378@marsbruch.net
URL:https://marsbruch.net/kalender/event/1458-adventsbasar/
DTSTART:20231130T090000Z
DTSTAMP:20231130T090000Z
CREATED:20231130T090000Z
SUMMARY:Adventsbasar
DESCRIPTION:
DTEND:20231130T102500Z
END:VEVENT
END:VCALENDAR
