BEGIN:VCALENDAR
METHOD:PUBLISH
VERSION:2.0
PRODID:-//WoltLab GmbH//WoltLab Suite Calendar 5.4//EN
CALSCALE:GREGORIAN
X-WR-CALNAME;VALUE=TEXT:2. SchiLf
BEGIN:VEVENT
TRANSP:TRANSPARENT
UID:event-1381@marsbruch.net
URL:https://marsbruch.net/kalender/event/1461-2-schilf/
DTSTART;VALUE=DATE:20240213
DTSTAMP:20240213T000000Z
CREATED:20240213T000000Z
SUMMARY:2. SchiLf
DESCRIPTION:[URL:https://lwl.taskcards.app/#/board/62df76ac-16a8-4eb1-8ca7-
 5d415f1bbe1f?token=81e45a04-fb97-45b8-aae3-22d6d9f5bab5]
DTEND;VALUE=DATE:20240214
END:VEVENT
END:VCALENDAR
