BEGIN:VCALENDAR
METHOD:PUBLISH
VERSION:2.0
PRODID:-//WoltLab GmbH//WoltLab Suite Calendar 5.4//EN
CALSCALE:GREGORIAN
X-WR-CALNAME;VALUE=TEXT:Kennenlerntag neue E-Klassen
BEGIN:VEVENT
TRANSP:TRANSPARENT
UID:event-1390@marsbruch.net
URL:https://marsbruch.net/kalender/event/1470-kennenlerntag-neue-e-klassen/
DTSTART;VALUE=DATE:20240622
DTSTAMP:20240622T000000Z
CREATED:20240622T000000Z
SUMMARY:Kennenlerntag neue E-Klassen
DTEND;VALUE=DATE:20240623
END:VEVENT
END:VCALENDAR
