BEGIN:VCALENDAR
METHOD:PUBLISH
VERSION:2.0
PRODID:-//WoltLab GmbH//WoltLab Suite Calendar 5.4//EN
CALSCALE:GREGORIAN
X-WR-CALNAME;VALUE=TEXT:Zeugnisausgabe
BEGIN:VEVENT
TRANSP:TRANSPARENT
UID:event-1392@marsbruch.net
URL:https://marsbruch.net/kalender/event/1472-zeugnisausgabe/
DTSTART;VALUE=DATE:20240705
DTSTAMP:20240705T000000Z
CREATED:20240705T000000Z
SUMMARY:Zeugnisausgabe
DTEND;VALUE=DATE:20240706
END:VEVENT
END:VCALENDAR
