BEGIN:VCALENDAR
METHOD:PUBLISH
VERSION:2.0
PRODID:-//WoltLab GmbH//WoltLab Suite Calendar 5.4//EN
CALSCALE:GREGORIAN
X-WR-CALNAME;VALUE=TEXT:Himmelfahrt
BEGIN:VEVENT
TRANSP:TRANSPARENT
UID:event-1393@marsbruch.net
URL:https://marsbruch.net/kalender/event/1473-himmelfahrt/
DTSTART;VALUE=DATE:20240509
DTSTAMP:20240509T000000Z
CREATED:20240509T000000Z
SUMMARY:Himmelfahrt
DTEND;VALUE=DATE:20240510
END:VEVENT
END:VCALENDAR
