BEGIN:VCALENDAR
METHOD:PUBLISH
VERSION:2.0
PRODID:-//WoltLab GmbH//WoltLab Suite Calendar 5.4//EN
CALSCALE:GREGORIAN
X-WR-CALNAME;VALUE=TEXT:Interreligiöse Feier
BEGIN:VEVENT
TRANSP:OPAQUE
UID:event-1409@marsbruch.net
URL:https://marsbruch.net/kalender/event/1489-interreligi%C3%B6se-feier/
DTSTART:20230915T083000Z
DTSTAMP:20230915T083000Z
CREATED:20230915T083000Z
SUMMARY:Interreligiöse Feier
DESCRIPTION:Interreligiöse Feier der Schule am Marsbruch und der Martin-Bar
 tels-Schule
LOCATION:Schulhof
DTEND:20230915T091500Z
END:VEVENT
END:VCALENDAR
