BEGIN:VCALENDAR
METHOD:PUBLISH
VERSION:2.0
PRODID:-//WoltLab GmbH//WoltLab Suite Calendar 5.4//EN
CALSCALE:GREGORIAN
X-WR-CALNAME;VALUE=TEXT:Informationsveranstaltung zur Beruflichen Orientier
 ung - Was kommt nach der Schule?
BEGIN:VEVENT
TRANSP:OPAQUE
UID:event-1416@marsbruch.net
URL:https://marsbruch.net/kalender/event/1496-informationsveranstaltung-zur
 -beruflichen-orientierung-was-kommt-nach-der-schule/
DTSTART:20230821T160000Z
DTSTAMP:20230821T160000Z
CREATED:20230821T160000Z
SUMMARY:Informationsveranstaltung zur Beruflichen Orientierung - Was kommt 
 nach der Schule?
DESCRIPTION:Unsere Koordinatorinnen für berufliche Orientierung (Frau Riesb
 erg und Frau Schrammel) und unser Schulsozialarbeiter (Herr Cobanoglu) info
 rmieren über die Möglichkeiten\, die sich für unsere Schüler*innen nach der
  Schule ergeben.\n\nDirekt im Anschluss dieses Termins finden die Klassenpf
 legschaftssitzungen statt.
DTEND:20230821T170000Z
END:VEVENT
END:VCALENDAR
