BEGIN:VCALENDAR
METHOD:PUBLISH
VERSION:2.0
PRODID:-//WoltLab GmbH//WoltLab Suite Calendar 5.4//EN
CALSCALE:GREGORIAN
X-WR-CALNAME;VALUE=TEXT:1. Schulpflegschaftssitzung 23/24
BEGIN:VEVENT
TRANSP:OPAQUE
UID:event-1418@marsbruch.net
URL:https://marsbruch.net/kalender/event/1498-1-schulpflegschaftssitzung-23
 -24/
DTSTART:20230828T170000Z
DTSTAMP:20230828T170000Z
CREATED:20230828T170000Z
SUMMARY:1. Schulpflegschaftssitzung 23/24
DESCRIPTION:1. Schulpflegschaftssitzung im Schuljahr 2023/24
LOCATION:AST-Raum
DTEND:20230828T183000Z
END:VEVENT
END:VCALENDAR
