BEGIN:VCALENDAR
METHOD:PUBLISH
VERSION:2.0
PRODID:-//WoltLab GmbH//WoltLab Suite Calendar 5.4//EN
CALSCALE:GREGORIAN
X-WR-CALNAME;VALUE=TEXT:1. Schulkonferenzsitzung 2023/24
BEGIN:VEVENT
TRANSP:OPAQUE
UID:event-1448@marsbruch.net
URL:https://marsbruch.net/kalender/event/1528-1-schulkonferenzsitzung-2023-
 24/
DTSTART:20231023T170000Z
DTSTAMP:20231023T170000Z
CREATED:20231023T170000Z
SUMMARY:1. Schulkonferenzsitzung 2023/24
DESCRIPTION:1. Schulkonferenzsitzung 2023/24
LOCATION:AST-Raum
DTEND:20231023T183000Z
END:VEVENT
END:VCALENDAR
