BEGIN:VCALENDAR
METHOD:PUBLISH
VERSION:2.0
PRODID:-//WoltLab GmbH//WoltLab Suite Calendar 5.4//EN
CALSCALE:GREGORIAN
X-WR-CALNAME;VALUE=TEXT:FK Englisch
BEGIN:VEVENT
TRANSP:OPAQUE
UID:event-1457@marsbruch.net
URL:https://marsbruch.net/kalender/event/1537-fk-englisch/
DTSTART:20230829T143000Z
DTSTAMP:20230829T143000Z
CREATED:20230829T143000Z
SUMMARY:FK Englisch
DESCRIPTION:Wahl FK Leitung\n\nSchulbuch-/Materialbestellung\n\nEnglischgru
 ppen……\n\nTerminplanung\n\nVerschiedenes
LOCATION:Videokonferenz
DTEND:20230829T153000Z
END:VEVENT
END:VCALENDAR
