BEGIN:VCALENDAR
METHOD:PUBLISH
VERSION:2.0
PRODID:-//WoltLab GmbH//WoltLab Suite Calendar 5.4//EN
CALSCALE:GREGORIAN
X-WR-CALNAME;VALUE=TEXT:Landessportfest Riesenball
BEGIN:VEVENT
TRANSP:TRANSPARENT
UID:event-1477@marsbruch.net
URL:https://marsbruch.net/kalender/event/1557-landessportfest-riesenball/
DTSTART;VALUE=DATE:20240516
DTSTAMP:20240516T000000Z
CREATED:20240516T000000Z
SUMMARY:Landessportfest Riesenball
DESCRIPTION:Landessportfest Riesenball
LOCATION:Dortmund
DTEND;VALUE=DATE:20240517
END:VEVENT
END:VCALENDAR
