BEGIN:VCALENDAR
METHOD:PUBLISH
VERSION:2.0
PRODID:-//WoltLab GmbH//WoltLab Suite Calendar 5.4//EN
CALSCALE:GREGORIAN
X-WR-CALNAME;VALUE=TEXT:Landessportfest Fußball
BEGIN:VEVENT
TRANSP:TRANSPARENT
UID:event-1478@marsbruch.net
URL:https://marsbruch.net/kalender/event/1558-landessportfest-fu%C3%9Fball/
DTSTART;VALUE=DATE:20240604
DTSTAMP:20240604T000000Z
CREATED:20240604T000000Z
SUMMARY:Landessportfest Fußball
DESCRIPTION:Landessportfest Fußball
LOCATION:Olsberg
DTEND;VALUE=DATE:20240605
END:VEVENT
END:VCALENDAR
