BEGIN:VCALENDAR
METHOD:PUBLISH
VERSION:2.0
PRODID:-//WoltLab GmbH//WoltLab Suite Calendar 5.4//EN
CALSCALE:GREGORIAN
X-WR-CALNAME;VALUE=TEXT:St. Martins-Feier
BEGIN:VEVENT
TRANSP:OPAQUE
UID:event-1493@marsbruch.net
URL:https://marsbruch.net/kalender/event/1573-st-martins-feier/
DTSTART:20231110T073000Z
DTSTAMP:20231110T073000Z
CREATED:20231110T073000Z
SUMMARY:St. Martins-Feier
DESCRIPTION:- Treffen in der Sternenhalle\, gemeinsamer Beginn mit einem Li
 ed\n\n- Umzug über den Schulhof (bei Regen: Gesang in der Sternenhalle)\n\n
 - Martinsspiel
LOCATION:Sternenhalle
DTEND:20231110T081500Z
END:VEVENT
END:VCALENDAR
