BEGIN:VCALENDAR
METHOD:PUBLISH
VERSION:2.0
PRODID:-//WoltLab GmbH//WoltLab Suite Calendar 5.4//EN
CALSCALE:GREGORIAN
X-WR-CALNAME;VALUE=TEXT:Karnevalsfeier der Unterstufe
BEGIN:VEVENT
TRANSP:OPAQUE
UID:event-1494@marsbruch.net
URL:https://marsbruch.net/kalender/event/1574-karnevalsfeier-der-unterstufe
 /
DTSTART:20240209T090000Z
DTSTAMP:20240209T090000Z
CREATED:20240209T090000Z
SUMMARY:Karnevalsfeier der Unterstufe
DTEND:20240209T100000Z
END:VEVENT
END:VCALENDAR
