BEGIN:VCALENDAR
METHOD:PUBLISH
VERSION:2.0
PRODID:-//WoltLab GmbH//WoltLab Suite Calendar 5.4//EN
CALSCALE:GREGORIAN
X-WR-CALNAME;VALUE=TEXT:2. Schulkonferenzsitzung im Schuljahr 2023/24
BEGIN:VEVENT
TRANSP:OPAQUE
UID:event-1524@marsbruch.net
URL:https://marsbruch.net/kalender/event/2604-2-schulkonferenzsitzung-im-sc
 huljahr-2023-24/
DTSTART:20240513T170000Z
DTSTAMP:20240513T170000Z
CREATED:20240513T170000Z
SUMMARY:2. Schulkonferenzsitzung im Schuljahr 2023/24
LOCATION:AST-Raum\, 2. OG\, BT 1\, R 2.03
DTEND:20240513T183000Z
END:VEVENT
END:VCALENDAR
