BEGIN:VCALENDAR
METHOD:PUBLISH
VERSION:2.0
PRODID:-//WoltLab GmbH//WoltLab Suite Calendar 5.4//EN
CALSCALE:GREGORIAN
X-WR-CALNAME;VALUE=TEXT:Karnevalsfeier der Mittelstufe
BEGIN:VEVENT
TRANSP:OPAQUE
UID:event-1577@marsbruch.net
URL:https://marsbruch.net/kalender/event/2657-karnevalsfeier-der-mittelstuf
 e/
DTSTART:20240209T091500Z
DTSTAMP:20240209T091500Z
CREATED:20240209T091500Z
SUMMARY:Karnevalsfeier der Mittelstufe
LOCATION:BT 1 - Flur
DTEND:20240209T102500Z
END:VEVENT
END:VCALENDAR
