BEGIN:VCALENDAR
METHOD:PUBLISH
VERSION:2.0
PRODID:-//WoltLab GmbH//WoltLab Suite Calendar 5.4//EN
CALSCALE:GREGORIAN
X-WR-CALNAME;VALUE=TEXT:Sommerferien NRW
BEGIN:VEVENT
TRANSP:TRANSPARENT
UID:event-1588@marsbruch.net
URL:https://marsbruch.net/kalender/event/2668-sommerferien-nrw/
DTSTART;VALUE=DATE:20240708
DTSTAMP:20240708T000000Z
CREATED:20240708T000000Z
SUMMARY:Sommerferien NRW
DESCRIPTION:Sommerferien
DTEND;VALUE=DATE:20240821
END:VEVENT
END:VCALENDAR
