BEGIN:VCALENDAR
METHOD:PUBLISH
VERSION:2.0
PRODID:-//WoltLab GmbH//WoltLab Suite Calendar 5.4//EN
CALSCALE:GREGORIAN
X-WR-CALNAME;VALUE=TEXT:Infoabend Betreuungsrecht
BEGIN:VEVENT
TRANSP:OPAQUE
UID:event-1615@marsbruch.net
URL:https://marsbruch.net/kalender/event/2695-infoabend-betreuungsrecht/
DTSTART:20241114T163000Z
DTSTAMP:20241114T163000Z
CREATED:20241114T163000Z
SUMMARY:Infoabend Betreuungsrecht
DTEND:20241114T180000Z
END:VEVENT
END:VCALENDAR
