BEGIN:VCALENDAR
METHOD:PUBLISH
VERSION:2.0
PRODID:-//WoltLab GmbH//WoltLab Suite Calendar 5.4//EN
CALSCALE:GREGORIAN
X-WR-CALNAME;VALUE=TEXT:Personalversammlung der Lehrkräfte - unterrichtsfre
 i ab 11:25 Uhr
BEGIN:VEVENT
TRANSP:TRANSPARENT
UID:event-1637@marsbruch.net
URL:https://marsbruch.net/kalender/event/3717-personalversammlung-der-lehrk
 r%C3%A4fte-unterrichtsfrei-ab-11-25-uhr/
DTSTART;VALUE=DATE:20240424
DTSTAMP:20240424T000000Z
CREATED:20240424T000000Z
SUMMARY:Personalversammlung der Lehrkräfte - unterrichtsfrei ab 11:25 Uhr
DESCRIPTION:Personalversammlung der Lehrkräfte - unterrichtsfrei ab 11:25 U
 hr
DTEND;VALUE=DATE:20240425
END:VEVENT
END:VCALENDAR
