BEGIN:VCALENDAR
METHOD:PUBLISH
VERSION:2.0
PRODID:-//WoltLab GmbH//WoltLab Suite Calendar 5.4//EN
CALSCALE:GREGORIAN
X-WR-CALNAME;VALUE=TEXT:schulinterne Kollegiumsfortbildung - unterrichtsfre
 i
BEGIN:VEVENT
TRANSP:TRANSPARENT
UID:event-1638@marsbruch.net
URL:https://marsbruch.net/kalender/event/3718-schulinterne-kollegiumsfortbi
 ldung-unterrichtsfrei/
DTSTART;VALUE=DATE:20240417
DTSTAMP:20240417T000000Z
CREATED:20240417T000000Z
SUMMARY:schulinterne Kollegiumsfortbildung - unterrichtsfrei
DESCRIPTION:schulinterne Kollegiumsfortbildung - unterrichtsfrei
DTEND;VALUE=DATE:20240418
END:VEVENT
END:VCALENDAR
