BEGIN:VCALENDAR
METHOD:PUBLISH
VERSION:2.0
PRODID:-//WoltLab GmbH//WoltLab Suite Calendar 5.4//EN
CALSCALE:GREGORIAN
X-WR-CALNAME;VALUE=TEXT:CYCLE4WATER - Fahrrad- Aktion
BEGIN:VEVENT
TRANSP:OPAQUE
UID:event-1654@marsbruch.net
URL:https://marsbruch.net/kalender/event/3734-cycle4water-fahrrad-aktion/
DTSTART:20240621T070000Z
DTSTAMP:20240621T070000Z
CREATED:20240621T070000Z
SUMMARY:CYCLE4WATER - Fahrrad- Aktion
DESCRIPTION:Am 21.06. organisiert Herr Schubert einen Aktionstag der Schulg
 emeinschaft für die well:fair Stiftung - ehemals Neven Subotic-Stiftung ( h
 ttps://wellfair.ngo/ )\n\nIm Vormittagsbereich werden Schüler*innen und Sch
 üler ein Fahrradangebot bekommen.\n\nFür die weitere Schulgemeinschaft (Leh
 rkräfte\, Theraputinnen\, Pflege\, Eltern\, ...) ist nach der Gesamtkonfere
 nz eine kleine Rad- Aktion in geselliger Runde geplant.\n\nWeitere Infos we
 rden folgen - wenn die Planungen vorrangeschritten sind \;-)
DTEND:20240621T100000Z
END:VEVENT
END:VCALENDAR
