BEGIN:VCALENDAR
METHOD:PUBLISH
VERSION:2.0
PRODID:-//WoltLab GmbH//WoltLab Suite Calendar 5.4//EN
CALSCALE:GREGORIAN
X-WR-CALNAME;VALUE=TEXT:1. Mai
BEGIN:VEVENT
TRANSP:TRANSPARENT
UID:event-1656@marsbruch.net
URL:https://marsbruch.net/kalender/event/3736-1-mai/
DTSTART;VALUE=DATE:20240501
DTSTAMP:20240501T000000Z
CREATED:20240501T000000Z
SUMMARY:1. Mai
DTEND;VALUE=DATE:20240502
END:VEVENT
END:VCALENDAR
