BEGIN:VCALENDAR
METHOD:PUBLISH
VERSION:2.0
PRODID:-//WoltLab GmbH//WoltLab Suite Calendar 5.4//EN
CALSCALE:GREGORIAN
X-WR-CALNAME;VALUE=TEXT:Talkersprechstunde PRD
BEGIN:VEVENT
TRANSP:TRANSPARENT
UID:event-1667@marsbruch.net
URL:https://marsbruch.net/kalender/event/3747-talkersprechstunde-prd/
DTSTART;VALUE=DATE:20240606
DTSTAMP:20240606T000000Z
CREATED:20240606T000000Z
SUMMARY:Talkersprechstunde PRD
DESCRIPTION:Hilfsmittelberatung mit Marvin Breitling\, Fa. Prentke Romich\,
   zu Fragen der Versorgung oder Nutzung mit und von Kommunikationshilfen\n\
 nAnliegen (mit Informationen zu Schüler\, Problem\, mögliche Zeitfenster) b
 itte per Mail an Ina.steinhaus@marsbruch.nrw.schule (zuständig für die Koor
 dination der Termine und Anliegen)
LOCATION:Besprechungsraum EG
DTEND;VALUE=DATE:20240607
END:VEVENT
END:VCALENDAR
