BEGIN:VCALENDAR
METHOD:PUBLISH
VERSION:2.0
PRODID:-//WoltLab GmbH//WoltLab Suite Calendar 5.4//EN
CALSCALE:GREGORIAN
X-WR-CALNAME;VALUE=TEXT:UPP Reininghaus
BEGIN:VEVENT
TRANSP:TRANSPARENT
UID:event-1692@marsbruch.net
URL:https://marsbruch.net/kalender/event/3772-upp-reininghaus/
DTSTART;VALUE=DATE:20240911
DTSTAMP:20240911T000000Z
CREATED:20240911T000000Z
SUMMARY:UPP Reininghaus
DTEND;VALUE=DATE:20240912
END:VEVENT
END:VCALENDAR
