BEGIN:VCALENDAR
METHOD:PUBLISH
VERSION:2.0
PRODID:-//WoltLab GmbH//WoltLab Suite Calendar 5.4//EN
CALSCALE:GREGORIAN
X-WR-CALNAME;VALUE=TEXT:UPP Kobiela
BEGIN:VEVENT
TRANSP:TRANSPARENT
UID:event-1693@marsbruch.net
URL:https://marsbruch.net/kalender/event/3773-upp-kobiela/
DTSTART;VALUE=DATE:20240912
DTSTAMP:20240912T000000Z
CREATED:20240912T000000Z
SUMMARY:UPP Kobiela
DTEND;VALUE=DATE:20240913
END:VEVENT
END:VCALENDAR
