BEGIN:VCALENDAR
METHOD:PUBLISH
VERSION:2.0
PRODID:-//WoltLab GmbH//WoltLab Suite Calendar 5.4//EN
CALSCALE:GREGORIAN
X-WR-CALNAME;VALUE=TEXT:Potenzialanalyse
BEGIN:VEVENT
TRANSP:TRANSPARENT
UID:event-1694@marsbruch.net
URL:https://marsbruch.net/kalender/event/3774-potenzialanalyse/
DTSTART;VALUE=DATE:20250205
DTSTAMP:20250205T000000Z
CREATED:20250205T000000Z
SUMMARY:Potenzialanalyse
DESCRIPTION:Potenzialanalyse
DTEND;VALUE=DATE:20250207
END:VEVENT
END:VCALENDAR
