BEGIN:VCALENDAR
METHOD:PUBLISH
VERSION:2.0
PRODID:-//WoltLab GmbH//WoltLab Suite Calendar 5.4//EN
CALSCALE:GREGORIAN
X-WR-CALNAME;VALUE=TEXT:Wartungsarbeiten Taskcards
BEGIN:VEVENT
TRANSP:OPAQUE
UID:event-1703@marsbruch.net
URL:https://marsbruch.net/kalender/event/3783-wartungsarbeiten-taskcards/
DTSTART:20240621T130000Z
DTSTAMP:20240621T130000Z
CREATED:20240621T130000Z
SUMMARY:Wartungsarbeiten Taskcards
DTEND:20240621T150000Z
END:VEVENT
END:VCALENDAR
