BEGIN:VCALENDAR
METHOD:PUBLISH
VERSION:2.0
PRODID:-//WoltLab GmbH//WoltLab Suite Calendar 5.4//EN
CALSCALE:GREGORIAN
X-WR-CALNAME;VALUE=TEXT:Abschiedsparty der Abschlussstufe
BEGIN:VEVENT
TRANSP:OPAQUE
UID:event-1706@marsbruch.net
URL:https://marsbruch.net/kalender/event/3786-abschiedsparty-der-abschlusss
 tufe/
DTSTART:20240625T114000Z
DTSTAMP:20240625T114000Z
CREATED:20240625T114000Z
SUMMARY:Abschiedsparty der Abschlussstufe
DESCRIPTION:Die Klasse 10b lädt euch gemeinsam mit DJ Yalo zur Abschiedspar
 ty ein! Für Knabberkram und Getränke ist gesorgt! Gute Musik bringt DJ Yalo
  mit!
LOCATION:AST-Raum
DTEND:20240625T131000Z
END:VEVENT
END:VCALENDAR
