BEGIN:VCALENDAR
METHOD:PUBLISH
VERSION:2.0
PRODID:-//WoltLab GmbH//WoltLab Suite Calendar 5.4//EN
CALSCALE:GREGORIAN
X-WR-CALNAME;VALUE=TEXT:Apfelmarkt
BEGIN:VEVENT
TRANSP:OPAQUE
UID:event-1708@marsbruch.net
URL:https://marsbruch.net/kalender/event/3788-apfelmarkt/
DTSTART:20240831T070000Z
DTSTAMP:20240831T070000Z
CREATED:20240831T070000Z
SUMMARY:Apfelmarkt
DESCRIPTION:Kaffee- und Kuchenstand
LOCATION:Aplerbeck
DTEND:20240901T150000Z
END:VEVENT
END:VCALENDAR
