BEGIN:VCALENDAR
METHOD:PUBLISH
VERSION:2.0
PRODID:-//WoltLab GmbH//WoltLab Suite Calendar 5.4//EN
CALSCALE:GREGORIAN
X-WR-CALNAME;VALUE=TEXT:Klassenpflegschaftssitzungen
BEGIN:VEVENT
TRANSP:OPAQUE
UID:event-1716@marsbruch.net
URL:https://marsbruch.net/kalender/event/3796-klassenpflegschaftssitzungen/
DTSTART:20240916T170000Z
DTSTAMP:20240916T170000Z
CREATED:20240916T170000Z
SUMMARY:Klassenpflegschaftssitzungen
LOCATION:Klassenräume der jeweiligen Klasse
DTEND:20240916T180000Z
END:VEVENT
END:VCALENDAR
