BEGIN:VCALENDAR
METHOD:PUBLISH
VERSION:2.0
PRODID:-//WoltLab GmbH//WoltLab Suite Calendar 5.4//EN
CALSCALE:GREGORIAN
X-WR-CALNAME;VALUE=TEXT:UK-Hilfsmittel-Beratung mit Rehamedia
BEGIN:VEVENT
TRANSP:TRANSPARENT
UID:event-1723@marsbruch.net
URL:https://marsbruch.net/kalender/event/3803-uk-hilfsmittel-beratung-mit-r
 ehamedia/
DTSTART;VALUE=DATE:20240910
DTSTAMP:20240910T000000Z
CREATED:20240910T000000Z
SUMMARY:UK-Hilfsmittel-Beratung mit Rehamedia
LOCATION:Besprechungsraum EG
DTEND;VALUE=DATE:20240911
END:VEVENT
END:VCALENDAR
