BEGIN:VCALENDAR
METHOD:PUBLISH
VERSION:2.0
PRODID:-//WoltLab GmbH//WoltLab Suite Calendar 5.4//EN
CALSCALE:GREGORIAN
X-WR-CALNAME;VALUE=TEXT:Landessportfest Rollstuhlbasketball 3x3 in Dortmund
BEGIN:VEVENT
TRANSP:TRANSPARENT
UID:event-1747@marsbruch.net
URL:https://marsbruch.net/kalender/event/3827-landessportfest-rollstuhlbask
 etball-3x3-in-dortmund/
DTSTART;VALUE=DATE:20250213
DTSTAMP:20250213T000000Z
CREATED:20250213T000000Z
SUMMARY:Landessportfest Rollstuhlbasketball 3x3 in Dortmund
DESCRIPTION:Landessportfest Rollstuhlbasketball 3x3 in Dortmund
DTEND;VALUE=DATE:20250214
END:VEVENT
END:VCALENDAR
