BEGIN:VCALENDAR
METHOD:PUBLISH
VERSION:2.0
PRODID:-//WoltLab GmbH//WoltLab Suite Calendar 5.4//EN
CALSCALE:GREGORIAN
X-WR-CALNAME;VALUE=TEXT:Lesung: “Abie Alba: der große Traum vom Weihnachtsb
 aum”
BEGIN:VEVENT
TRANSP:TRANSPARENT
UID:event-1774@marsbruch.net
URL:https://marsbruch.net/kalender/event/3854-lesung-abie-alba-der-gro%C3%9
 Fe-traum-vom-weihnachtsbaum/
DTSTART;VALUE=DATE:20241212
DTSTAMP:20241212T000000Z
CREATED:20241212T000000Z
SUMMARY:Lesung: “Abie Alba: der große Traum vom Weihnachtsbaum”
DESCRIPTION:
LOCATION:SuS-Bücherei
DTEND;VALUE=DATE:20241213
END:VEVENT
END:VCALENDAR
